BEGIN:VCALENDAR
VERSION:2.0
PRODID:-//Orillia &amp; Lake Country Tourism - ECPv4.6.10.1//NONSGML v1.0//EN
CALSCALE:GREGORIAN
METHOD:PUBLISH
X-WR-CALNAME:Orillia &amp; Lake Country Tourism
X-ORIGINAL-URL:https://www.orillialakecountry.ca
X-WR-CALDESC:Events for Orillia &amp; Lake Country Tourism
BEGIN:VEVENT
DTSTART;TZID=America/Toronto:20250620T200000
DTEND;TZID=America/Toronto:20250620T230000
DTSTAMP:20260421T104947
CREATED:20250605T144035Z
LAST-MODIFIED:20250605T144035Z
UID:57316-1750449600-1750460400@www.orillialakecountry.ca
SUMMARY:Will Powers\, Domicile & Sleepy Jan
DESCRIPTION:\n\n\n\n\nA night of original music from WILL POWERS  to promote their upcoming album SNAKE SKINNED (available June\, 21st) with supporting local acts DOMICILE and SLEEPY JAN \nALL AGES \nDoors open at 7:30PM; show begins at 8:00. Tickets available now — click here! \nLimited food menu available\, plus six taps and a full bar! \n\n\n\n\n\nShareTweet\n            \n                \n            
URL:https://www.orillialakecountry.ca/event/will-powers-domicile-sleepy-jan/
LOCATION:117 Mississaga St. E.\, Orillia\, Ontario\, L3V 1V6\, Canada
GEO:44.6093229;-79.4166325
X-APPLE-STRUCTURED-LOCATION;VALUE=URI;X-ADDRESS=117 Mississaga St. E. Orillia Ontario L3V 1V6 Canada;X-APPLE-RADIUS=500;X-TITLE=117 Mississaga St. E.:geo:-79.4166325,44.6093229
CATEGORIES:Adults,Culture And Heritage,Everyone,Experiences,Music And Performing Arts
ATTACH;FMTTYPE=image/jpeg:https://www.orillialakecountry.ca/wp-content/uploads/2025/06/will-powers.jpg
END:VEVENT
END:VCALENDAR