BEGIN:VCALENDAR
VERSION:2.0
PRODID:-//Orillia &amp; Lake Country Tourism - ECPv4.6.10.1//NONSGML v1.0//EN
CALSCALE:GREGORIAN
METHOD:PUBLISH
X-WR-CALNAME:Orillia &amp; Lake Country Tourism
X-ORIGINAL-URL:https://www.orillialakecountry.ca
X-WR-CALDESC:Events for Orillia &amp; Lake Country Tourism
BEGIN:VEVENT
DTSTART;TZID=America/Toronto:20250301T100000
DTEND;TZID=America/Toronto:20250301T160000
DTSTAMP:20260419T152830
CREATED:20250127T182621Z
LAST-MODIFIED:20250127T182720Z
UID:54209-1740823200-1740844800@www.orillialakecountry.ca
SUMMARY:Wed Well
DESCRIPTION:\n\nForget the wedding shows of yesteryear- Wed Well Simcoe-Muskoka is an event you’ll actually want to go to. Connect with Simcoe and Muskoka regions’s top wedding talent in an intimate\, creative and inspiring environment without the overwhelm\, pushy sales pitches\, and cluttered stalls. \n\n\nWed Well has been on a mission since 2019 to change the reputation of weddings shows. Our handpicked wedding pros can’t wait to meet you at Up Country’s Braestone Farm. \n\n\n\n\n\n\n\n\n\n\n\n\n\nShareTweet\n            \n                \n            
URL:https://www.orillialakecountry.ca/event/wed-well/
LOCATION:3288 Line 9 N\, Coldwater\, Ontario\, L0K 1E0\, Canada
GEO:44.5571114;-79.5508584
X-APPLE-STRUCTURED-LOCATION;VALUE=URI;X-ADDRESS=3288 Line 9 N Coldwater Ontario L0K 1E0 Canada;X-APPLE-RADIUS=500;X-TITLE=3288 Line 9 N:geo:-79.5508584,44.5571114
CATEGORIES:Adults,Everyone
ATTACH;FMTTYPE=image/jpeg:https://www.orillialakecountry.ca/wp-content/uploads/2025/01/Wed-Well.jpg
END:VEVENT
END:VCALENDAR