BEGIN:VCALENDAR
VERSION:2.0
PRODID:-//Orillia &amp; Lake Country Tourism - ECPv4.6.10.1//NONSGML v1.0//EN
CALSCALE:GREGORIAN
METHOD:PUBLISH
X-WR-CALNAME:Orillia &amp; Lake Country Tourism
X-ORIGINAL-URL:https://www.orillialakecountry.ca
X-WR-CALDESC:Events for Orillia &amp; Lake Country Tourism
BEGIN:VEVENT
DTSTART;TZID=America/Toronto:20250531T200000
DTEND;TZID=America/Toronto:20250531T230000
DTSTAMP:20260423T103524
CREATED:20250218T153721Z
LAST-MODIFIED:20250218T153721Z
UID:54527-1748721600-1748732400@www.orillialakecountry.ca
SUMMARY:Walk Off the Earth
DESCRIPTION:Walk off the Earth is a JUNO Award-winning multi-platinum musical phenomenon. In the past few years alone\, they have headlined Red Rocks Amphitheater and Wembley Arena\, sold out the historic Sydney Opera House\, notched a top-10 single in Canada for 30 straight weeks and made it all the way to the top of the Pop Albums chart in the US. They’ve collaborated with artists from all genres including Snoop Dogg\, Sarah Silverman\, Keith Urban\, Steve Aoki\, Lukas Graham\, Lauv\, Lindsey Stirling\, and many more; sold millions of copies of their recordings and racked up billions of streams along the way. With hits including\, “Rule The World\,” “Fire In My Soul\,” “I’ll Be There” and “My Stupid Heart.” ShareTweet\n            \n                \n            
URL:https://www.orillialakecountry.ca/event/walk-off-the-earth/
LOCATION:5899 Rama Road\, Rama\, Ontario\, L3V 6H6\, Canada
GEO:44.646994;-79.350299
X-APPLE-STRUCTURED-LOCATION;VALUE=URI;X-ADDRESS=5899 Rama Road Rama Ontario L3V 6H6 Canada;X-APPLE-RADIUS=500;X-TITLE=5899 Rama Road:geo:-79.350299,44.646994
CATEGORIES:Adults,Experiences,Music And Performing Arts
ATTACH;FMTTYPE=image/jpeg:https://www.orillialakecountry.ca/wp-content/uploads/2025/02/Walk-off-the-earth.jpg
END:VEVENT
END:VCALENDAR