BEGIN:VCALENDAR
VERSION:2.0
PRODID:-//Orillia &amp; Lake Country Tourism - ECPv4.6.10.1//NONSGML v1.0//EN
CALSCALE:GREGORIAN
METHOD:PUBLISH
X-WR-CALNAME:Orillia &amp; Lake Country Tourism
X-ORIGINAL-URL:https://www.orillialakecountry.ca
X-WR-CALDESC:Events for Orillia &amp; Lake Country Tourism
BEGIN:VEVENT
DTSTART;TZID=America/Toronto:20251127T193000
DTEND;TZID=America/Toronto:20251127T193000
DTSTAMP:20260421T105308
CREATED:20250710T185145Z
LAST-MODIFIED:20251111T190455Z
UID:58149-1764271800-1764271800@www.orillialakecountry.ca
SUMMARY:Trivia Thursday at Crazy Horse: Horseshoe Valley Resort
DESCRIPTION:\nTrivia Thursday at Crazy Horse Restaurant \n\nJoin us for trivia on Thursday night! Enjoy tasty eats at Crazy Horse with your friends or family and enjoy a night of quizzical fun! The game starts at 7:30pm – we recommend arriving 10-15 minutes prior to secure your table.Questions will cover a wide variety of general topics. All questions are reviewed by our team to ensure they are family-friendly.ShareTweet\n            \n                \n            
URL:https://www.orillialakecountry.ca/event/trivia-thursday-at-eleven-01-horseshoe-valley-resort/2025-11-27/
CATEGORIES:Everyone,Experiences
ATTACH;FMTTYPE=image/png:https://www.orillialakecountry.ca/wp-content/uploads/2025/07/Horseshoe-Valley-Resort-Trivia.png
ORGANIZER;CN="Horseshoe%20Resort":MAILTO:info@horseshoeresort.com
END:VEVENT
END:VCALENDAR