BEGIN:VCALENDAR
VERSION:2.0
PRODID:-//Orillia &amp; Lake Country Tourism - ECPv4.6.10.1//NONSGML v1.0//EN
CALSCALE:GREGORIAN
METHOD:PUBLISH
X-WR-CALNAME:Orillia &amp; Lake Country Tourism
X-ORIGINAL-URL:https://www.orillialakecountry.ca
X-WR-CALDESC:Events for Orillia &amp; Lake Country Tourism
BEGIN:VEVENT
DTSTART;TZID=America/Toronto:20250412T130000
DTEND;TZID=America/Toronto:20250412T180000
DTSTAMP:20260420T005429
CREATED:20250324T202518Z
LAST-MODIFIED:20250324T202518Z
UID:55541-1744462800-1744480800@www.orillialakecountry.ca
SUMMARY:The Mariposa Showcase for Emerging Artists
DESCRIPTION:The Mariposa Folk Festival presents the Mariposa Showcase for Emerging Artists! From 250 applications\, see the final selection of 9 acts at a free afternoon concert at St. Paul’s Centre \nFeaturing: \nBasset\nEvan Rotella\nHarvey King and The Grindstone\nJessica Pearson and the East Wind\nMatt Bazinet\nMill Rights\nTaming Sari\nTodd and Robyn\nYork Street Thought Process \nThe Mariposa Showcase is an amazing day of free music. Don’t miss it!\nApril 12th\, 1-6pm at St Paul’s Centre in Orillia. ShareTweet\n            \n                \n            
URL:https://www.orillialakecountry.ca/event/the-mariposa-showcase-for-emerging-artists/
LOCATION:62 Peter St N\, Orillia\, L3V 4Z1
GEO:44.6108988;-79.4187359
X-APPLE-STRUCTURED-LOCATION;VALUE=URI;X-ADDRESS=62 Peter St N Orillia L3V 4Z1;X-APPLE-RADIUS=500;X-TITLE=62 Peter St N:geo:-79.4187359,44.6108988
CATEGORIES:Music And Performing Arts
ATTACH;FMTTYPE=image/jpeg:https://www.orillialakecountry.ca/wp-content/uploads/2022/11/Mariposa-Folk-Festival-2024-Profile-Photo-Avatar.jpg
END:VEVENT
END:VCALENDAR