BEGIN:VCALENDAR
VERSION:2.0
PRODID:-//Orillia &amp; Lake Country Tourism - ECPv4.6.10.1//NONSGML v1.0//EN
CALSCALE:GREGORIAN
METHOD:PUBLISH
X-WR-CALNAME:Orillia &amp; Lake Country Tourism
X-ORIGINAL-URL:https://www.orillialakecountry.ca
X-WR-CALDESC:Events for Orillia &amp; Lake Country Tourism
BEGIN:VEVENT
DTSTART;VALUE=DATE:20260510
DTEND;VALUE=DATE:20260511
DTSTAMP:20260423T121252
CREATED:20260421T134417Z
LAST-MODIFIED:20260421T134417Z
UID:72808-1778371200-1778457599@www.orillialakecountry.ca
SUMMARY:The Heights Mother's Day Brunch
DESCRIPTION:Mother’s Day Brunch at The Heights. Seatings available at 10:30am\, 11:30am & 12:30pm ShareTweet\n            \n                \n            
URL:https://www.orillialakecountry.ca/event/the-heights-mothers-day-brunch/
LOCATION:1106 Horseshoe Valley Rd W\, Barrie\, L4M 4Y8
CATEGORIES:Culinary,Everyone,Experiences
ATTACH;FMTTYPE=image/jpeg:https://www.orillialakecountry.ca/wp-content/uploads/2026/04/Untitled-3.jpg
END:VEVENT
END:VCALENDAR