BEGIN:VCALENDAR
VERSION:2.0
PRODID:-//Orillia &amp; Lake Country Tourism - ECPv4.6.10.1//NONSGML v1.0//EN
CALSCALE:GREGORIAN
METHOD:PUBLISH
X-WR-CALNAME:Orillia &amp; Lake Country Tourism
X-ORIGINAL-URL:https://www.orillialakecountry.ca
X-WR-CALDESC:Events for Orillia &amp; Lake Country Tourism
BEGIN:VEVENT
DTSTART;TZID=America/Toronto:20240406T200000
DTEND;TZID=America/Toronto:20240406T200000
DTSTAMP:20260421T134903
CREATED:20240220T165842Z
LAST-MODIFIED:20240220T165842Z
UID:43473-1712433600-1712433600@www.orillialakecountry.ca
SUMMARY:The Fab Four: The Ultimate Tribute
DESCRIPTION:The Fab Four: The Ultimate Tribute • Saturday\, April 6\, 2024\nShowtime: 8pm • Doors Open: 7pm | Tickets: $25/$35/$45/$55 + Taxes & Service Charge \nPre-Sale: Wednesday\, January 10 at 10am | Public Ticketmaster On-Sale: Friday\, January 12 at 10am \nTickets can be purchased at the Box Office or at Ticketmaster.ca\, the only official ticket retailer for Casino Rama Resort shows. \nClick Here to Buy Tickets \nMy Club Rewards members can use available comp to purchase tickets to this show by calling 1-800-832-7529 or visit Guest Services. \nIf you want to experience the best Beatles tribute ever\, you won’t want to miss the Emmy Award Winning\, Fab Four. With uncanny\, note-for-note live renditions of Beatles’ classics such as “Can’t Buy Me Love\,” “Yesterday\,” “A Day In The Life\,” “Twist And Shout\,” “Here Comes The Sun\,” and “Hey Jude”\, the Fab Four will make you think you are watching the real thing. Their incredible stage performances include three costume changes representing every era of the Beatles ever-changing career. ShareTweet\n            \n                \n            
URL:https://www.orillialakecountry.ca/event/the-fab-four-the-ultimate-tribute/
LOCATION:5899 Rama Road\, Rama\, Ontario\, L3V 6H6\, Canada
GEO:44.646994;-79.350299
X-APPLE-STRUCTURED-LOCATION;VALUE=URI;X-ADDRESS=5899 Rama Road Rama Ontario L3V 6H6 Canada;X-APPLE-RADIUS=500;X-TITLE=5899 Rama Road:geo:-79.350299,44.646994
CATEGORIES:Music And Performing Arts
ATTACH;FMTTYPE=image/jpeg:https://www.orillialakecountry.ca/wp-content/uploads/2024/02/CRR-FabFour-750x750-1.jpg
END:VEVENT
END:VCALENDAR