BEGIN:VCALENDAR
VERSION:2.0
PRODID:-//Orillia &amp; Lake Country Tourism - ECPv4.6.10.1//NONSGML v1.0//EN
CALSCALE:GREGORIAN
METHOD:PUBLISH
X-WR-CALNAME:Orillia &amp; Lake Country Tourism
X-ORIGINAL-URL:https://www.orillialakecountry.ca
X-WR-CALDESC:Events for Orillia &amp; Lake Country Tourism
BEGIN:VEVENT
DTSTART;TZID=America/Toronto:20251016T193000
DTEND;TZID=America/Toronto:20251016T213000
DTSTAMP:20260424T171650
CREATED:20250923T165113Z
LAST-MODIFIED:20250923T165113Z
UID:63990-1760643000-1760650200@www.orillialakecountry.ca
SUMMARY:The Comic Strippers
DESCRIPTION:The Comic Strippers are a fictitious male stripper troupe\, played by a cast of some of Canada’s best improvisational comedians. These guys try to be sexy – it just comes out funny. Constantly grooving and gyrating\, in between scenes they banter with the crowd and perform their sexylarious twist on improv sketches. They sing\, they “dance” – these guys are oiled up and ready to make you laugh. Women often say the most attractive thing about a man is his sense of humour – so ladies\, these stripped-down comedians are sure to make your head explode. And not to worry\, gentlemen\, this is definitely a parody of male strippers. “A show suitable for both men and women\, an entertaining ride where anything goes.” – Rip It Up Magazine  \nSemi-undressed and completely unscripted\, The Comic Strippers take off their shirts and take on your suggestions to create a whole new genre of comedy.  \nWARNING: No extreme nudity\, just extreme hilarity. A show for all genders – 19+ only  \nFresh from sold out shows in Vegas\, Australia and across Canada and Canadian Comedy Award Winners for Best Live Production\, The Comic Strippers are: \nRoman Danylo – For five seasons\, Roman starred on CTV’s Comedy Inc. As a stand-up comedian\, he has appeared on Just For Laughs and The Debaters. \nKen Lawson – Ken starred in the Canadian sitcom Health Nutz and has performed all over North America with The Vancouver Theatre Sports League and The Second City.  \nChris Casillan – An improv comedy vet with The Vancouver Theatre Sports League\, Chris is also a Canadian Comedy Award winner with his sketch comedy group Canadian Content. \nPearce Visser – Pearce is a 25 year veteran of improv\, performing and teaching across Canada and the globe\, is in the Cirque du Soleil talent roster\, and can be seen occasionally on film and tv. ShareTweet\n            \n                \n            
URL:https://www.orillialakecountry.ca/event/the-comic-strippers/
LOCATION:1 West Street North\, Orillia\, Ontario\,  L3V 5B8\, Canada
GEO:44.6082597;-79.4196643
X-APPLE-STRUCTURED-LOCATION;VALUE=URI;X-ADDRESS=1 West Street North Orillia Ontario  L3V 5B8 Canada;X-APPLE-RADIUS=500;X-TITLE=1 West Street North:geo:-79.4196643,44.6082597
CATEGORIES:Adults,Experiences
ATTACH;FMTTYPE=image/png:https://www.orillialakecountry.ca/wp-content/uploads/2025/09/5_25_2025_4_10_33_PM.png
END:VEVENT
END:VCALENDAR