BEGIN:VCALENDAR
VERSION:2.0
PRODID:-//Orillia &amp; Lake Country Tourism - ECPv4.6.10.1//NONSGML v1.0//EN
CALSCALE:GREGORIAN
METHOD:PUBLISH
X-WR-CALNAME:Orillia &amp; Lake Country Tourism
X-ORIGINAL-URL:https://www.orillialakecountry.ca
X-WR-CALDESC:Events for Orillia &amp; Lake Country Tourism
BEGIN:VEVENT
DTSTART;TZID=America/Toronto:20250926T193000
DTEND;TZID=America/Toronto:20250926T193000
DTSTAMP:20260419T185256
CREATED:20250923T150709Z
LAST-MODIFIED:20250923T150709Z
UID:63935-1758915000-1758915000@www.orillialakecountry.ca
SUMMARY:Simply Queen. Simply Spectacular
DESCRIPTION:It’s North America’s most adored recreation of Queen – the magic and the music. Simply Queen makes its first visit to Orillia. And you’re the guest of honour! \nImpeccable attention to detail makes this the most authentic recreation of the sights and sounds that are Queen. Eerie 4-part harmonies. Dreamy guitar interludes. Authentic outfits and instrumentation. \nIncredible performance energy captures the essence of the Queen concert experience and stage presence\, featuring the world-renowned Freddie Mercury impersonator\, Canada’s own Rick Rock. \nPerforming to capacity crowds across North America\, it’s your turn to take in the King of Queen tribute performances. \n‘Guaranteed to blow your mind…’ ShareTweet\n            \n                \n            
URL:https://www.orillialakecountry.ca/event/simply-queen-simply-spectacular/
LOCATION:20 Mississaga St W\, Orillia\, L3V 5G2
GEO:44.6082756;-79.4203549
X-APPLE-STRUCTURED-LOCATION;VALUE=URI;X-ADDRESS=20 Mississaga St W Orillia L3V 5G2;X-APPLE-RADIUS=500;X-TITLE=20 Mississaga St W:geo:-79.4203549,44.6082756
CATEGORIES:Adults,Culture And Heritage,Everyone,Experiences
ATTACH;FMTTYPE=image/jpeg:https://www.orillialakecountry.ca/wp-content/uploads/2025/09/481918975_621608503958979_652264007374103597_n.jpg
END:VEVENT
END:VCALENDAR