BEGIN:VCALENDAR
VERSION:2.0
PRODID:-//Orillia &amp; Lake Country Tourism - ECPv4.6.10.1//NONSGML v1.0//EN
CALSCALE:GREGORIAN
METHOD:PUBLISH
X-WR-CALNAME:Orillia &amp; Lake Country Tourism
X-ORIGINAL-URL:https://www.orillialakecountry.ca
X-WR-CALDESC:Events for Orillia &amp; Lake Country Tourism
BEGIN:VEVENT
DTSTART;TZID=America/Toronto:20250125T200000
DTEND;TZID=America/Toronto:20250125T220000
DTSTAMP:20260420T002318
CREATED:20250116T162453Z
LAST-MODIFIED:20250116T162453Z
UID:53983-1737835200-1737842400@www.orillialakecountry.ca
SUMMARY:Severn Bridge Comedy Night
DESCRIPTION:Enjoy 9 handpicked hilarious comedians ready to make you laugh your ass off! And a special musical halftime show by Samantha Windover! ShareTweet\n            \n                \n            
URL:https://www.orillialakecountry.ca/event/severn-bridge-comedy-night/
LOCATION:9620 ON-11\, Washago\, ON L0K 2B0\, ON\, L0K 2B0\, Canada
GEO:44.724548;-79.374821
X-APPLE-STRUCTURED-LOCATION;VALUE=URI;X-ADDRESS=9620 ON-11 Washago ON L0K 2B0 ON L0K 2B0 Canada;X-APPLE-RADIUS=500;X-TITLE=9620 ON-11:geo:-79.374821,44.724548
CATEGORIES:Adults,Experiences
ATTACH;FMTTYPE=image/jpeg:https://www.orillialakecountry.ca/wp-content/uploads/2025/01/Severn-Bridge-Comedy-Night.jpg
END:VEVENT
END:VCALENDAR