BEGIN:VCALENDAR
VERSION:2.0
PRODID:-//Orillia &amp; Lake Country Tourism - ECPv4.6.10.1//NONSGML v1.0//EN
CALSCALE:GREGORIAN
METHOD:PUBLISH
X-WR-CALNAME:Orillia &amp; Lake Country Tourism
X-ORIGINAL-URL:https://www.orillialakecountry.ca
X-WR-CALDESC:Events for Orillia &amp; Lake Country Tourism
BEGIN:VEVENT
DTSTART;TZID=America/Toronto:20250821T100000
DTEND;TZID=America/Toronto:20250821T150000
DTSTAMP:20260420T185557
CREATED:20250731T190115Z
LAST-MODIFIED:20250731T190115Z
UID:60821-1755770400-1755788400@www.orillialakecountry.ca
SUMMARY:Sell your Stash Craft Day
DESCRIPTION:Make room in your calendar for this event as vendors will be selling vintage handmade crafts\, crafting materials\, putting on displays and giving demonstrations to help both the experienced and the uninitiated. Rural creativity in all its glory. ShareTweet\n            \n                \n            
URL:https://www.orillialakecountry.ca/event/sell-your-stash-craft-day/
LOCATION:1474 Woodrow Rd.\, Coldwater\, Ontario\, L0K1E0\, Canada
GEO:44.697999;-79.6426793
X-APPLE-STRUCTURED-LOCATION;VALUE=URI;X-ADDRESS=1474 Woodrow Rd. Coldwater Ontario L0K1E0 Canada;X-APPLE-RADIUS=500;X-TITLE=1474 Woodrow Rd.:geo:-79.6426793,44.697999
CATEGORIES:Adults,Art Studios & Galleries,Everyone
ATTACH;FMTTYPE=image/jpeg:https://www.orillialakecountry.ca/wp-content/uploads/2025/07/sell-your-stash.jpg
END:VEVENT
END:VCALENDAR