BEGIN:VCALENDAR
VERSION:2.0
PRODID:-//Orillia &amp; Lake Country Tourism - ECPv4.6.10.1//NONSGML v1.0//EN
CALSCALE:GREGORIAN
METHOD:PUBLISH
X-WR-CALNAME:Orillia &amp; Lake Country Tourism
X-ORIGINAL-URL:https://www.orillialakecountry.ca
X-WR-CALDESC:Events for Orillia &amp; Lake Country Tourism
BEGIN:VEVENT
DTSTART;TZID=America/Toronto:20251011T140000
DTEND;TZID=America/Toronto:20251011T160000
DTSTAMP:20260421T121031
CREATED:20250923T163854Z
LAST-MODIFIED:20250923T163854Z
UID:63984-1760191200-1760198400@www.orillialakecountry.ca
SUMMARY:Pumpkins & Pinot
DESCRIPTION:Enjoy a relaxing afternoon with friends! Join the Leacock Museum and artist\, M Nowick in pumpkin painting. A complimentary glass of Pinot (or a non-alcoholic alternative) will be served. This event is one-day only! Very limited tickets are available. ShareTweet\n            \n                \n            
URL:https://www.orillialakecountry.ca/event/pumpkins-pinot/
LOCATION:50 Museum Dr\, Orillia\, Ontario\, L3V 6K5\, Canada
GEO:44.607633;-79.39447
X-APPLE-STRUCTURED-LOCATION;VALUE=URI;X-ADDRESS=50 Museum Dr Orillia Ontario L3V 6K5 Canada;X-APPLE-RADIUS=500;X-TITLE=50 Museum Dr:geo:-79.39447,44.607633
CATEGORIES:Adults,Culture And Heritage,Holiday And Seasonal,Leacock,Visual Arts Crafts And Story Telling
ATTACH;FMTTYPE=image/png:https://www.orillialakecountry.ca/wp-content/uploads/2025/09/9_19_2025_9_49_05_AM.png
END:VEVENT
END:VCALENDAR