BEGIN:VCALENDAR
VERSION:2.0
PRODID:-//Orillia &amp; Lake Country Tourism - ECPv4.6.10.1//NONSGML v1.0//EN
CALSCALE:GREGORIAN
METHOD:PUBLISH
X-WR-CALNAME:Orillia &amp; Lake Country Tourism
X-ORIGINAL-URL:https://www.orillialakecountry.ca
X-WR-CALDESC:Events for Orillia &amp; Lake Country Tourism
BEGIN:VEVENT
DTSTART;TZID=America/Toronto:20251231T180000
DTEND;TZID=America/Toronto:20251231T230000
DTSTAMP:20260419T223421
CREATED:20241218T191453Z
LAST-MODIFIED:20251218T160046Z
UID:53487-1767204000-1767222000@www.orillialakecountry.ca
SUMMARY:NYE at Rawley Resort
DESCRIPTION:\nDine on a delicious 3-Course Dinner in our Lighthouse45 Restaurant while enjoying the live entertainment by the Shawn Mei Trio. The band will continue throughout the evening\, and as the countdown begins\, the staff will serve a Champagne to toast in the New Year. Included in this package is breakfast the next morning. \nShareTweet\n            \n                \n            
URL:https://www.orillialakecountry.ca/event/nye-at-rawley-resort/
LOCATION:2900 Kelly's Road\, Port Severn\, Ontario\, L0K 1S0\, Canada
GEO:44.8052514;-79.7169752
X-APPLE-STRUCTURED-LOCATION;VALUE=URI;X-ADDRESS=2900 Kelly's Road Port Severn Ontario L0K 1S0 Canada;X-APPLE-RADIUS=500;X-TITLE=2900 Kelly's Road:geo:-79.7169752,44.8052514
CATEGORIES:Adults,Culinary,Everyone,Holiday And Seasonal,Music And Performing Arts
ATTACH;FMTTYPE=image/jpeg:https://www.orillialakecountry.ca/wp-content/uploads/2024/12/Rawley-NYE.jpg
END:VEVENT
END:VCALENDAR