BEGIN:VCALENDAR
VERSION:2.0
PRODID:-//Orillia &amp; Lake Country Tourism - ECPv4.6.10.1//NONSGML v1.0//EN
CALSCALE:GREGORIAN
METHOD:PUBLISH
X-WR-CALNAME:Orillia &amp; Lake Country Tourism
X-ORIGINAL-URL:https://www.orillialakecountry.ca
X-WR-CALDESC:Events for Orillia &amp; Lake Country Tourism
BEGIN:VEVENT
DTSTART;VALUE=DATE:20240420
DTEND;VALUE=DATE:20240421
DTSTAMP:20260420T002645
CREATED:20240314T195441Z
LAST-MODIFIED:20240314T195450Z
UID:45939-1713571200-1713657599@www.orillialakecountry.ca
SUMMARY:Nourish Day Retreat
DESCRIPTION:Embark on a sensory escape as Rawley Resort invites you to experience our exclusive “Nourish Day.” Immerse yourself in a sanctuary of serenity\, where the warm soothing touch of hot stones meets the energetic healing of the divine. \n\nMorning Yoga Energy Session \n\n\nBeginning our day with connection and intention. As a group come together through breathwork and a guided meditation connecting our mind\, body and spirit. An empowering morning yoga session\, infused with reiki to awaken and move our energy. Welcoming in the new year and connecting to our soul needs to create more balance in 2024. A trust flow to surrender and to let go. \n\nThe Spa at Rawley Resort Experience \n\n\nSpa experience after lunch with a scheduled session with the spa team to enjoy our treatment including an Eminence organic stone crop facial\, a healing and brightening treatment using heated pebble stone to warm and relax the facial muscles and a sole delight foot ritual to bring harmony from above and below. During the afternoon you will also have access to outdoor hot tub\, red cedar barrel sauna and a hot drink around the fire pit. \n\nHot Stone Yoga Session \n\n\nTo complete your day with a full moon hot stone restorative yoga session. Continuing the warmth of hot stones energized by the recent moon. Nurturing your nervous system to help you drop into your body. This practice includes 4-5 long held restorative poses in which warm lava stones are strategically placed on the body. Basalt stones  symbolize transformation and new beginnings\, anchor you to the earth and elevate your vibration. \nSoulful Meal \nA soulful meal not only delights the taste buds but also nourishes the mind\, body\, and spirit. It goes beyond satisfying hunger\, incorporating comfort\, nostalgia\, and emotional well-being. Prepared with care\, using quality ingredients and cooked with love\, it is a holistic experience. \nLearn more. \n\n\nShareTweet\n            \n                \n            
URL:https://www.orillialakecountry.ca/event/nourish-day-retreat/
LOCATION:2900 Kelly's Road\, Port Severn\, Ontario\, L0K 1S0\, Canada
GEO:44.8052514;-79.7169752
X-APPLE-STRUCTURED-LOCATION;VALUE=URI;X-ADDRESS=2900 Kelly's Road Port Severn Ontario L0K 1S0 Canada;X-APPLE-RADIUS=500;X-TITLE=2900 Kelly's Road:geo:-79.7169752,44.8052514
CATEGORIES:Culinary,Experiences
ATTACH;FMTTYPE=image/jpeg:https://www.orillialakecountry.ca/wp-content/uploads/2024/03/428610672_1004447777878045_4744638305846061322_n.jpg
END:VEVENT
END:VCALENDAR