BEGIN:VCALENDAR
VERSION:2.0
PRODID:-//Orillia &amp; Lake Country Tourism - ECPv4.6.10.1//NONSGML v1.0//EN
CALSCALE:GREGORIAN
METHOD:PUBLISH
X-WR-CALNAME:Orillia &amp; Lake Country Tourism
X-ORIGINAL-URL:https://www.orillialakecountry.ca
X-WR-CALDESC:Events for Orillia &amp; Lake Country Tourism
BEGIN:VEVENT
DTSTART;TZID=America/Toronto:20260724T210000
DTEND;TZID=America/Toronto:20260724T233000
DTSTAMP:20260424T200214
CREATED:20260421T130436Z
LAST-MODIFIED:20260421T130436Z
UID:72776-1784926800-1784935800@www.orillialakecountry.ca
SUMMARY:Loverboy
DESCRIPTION:Loverboy • Friday\, July 24\, 2026\n19+ event\nShowtime: 9pm • Doors Open: 8pm | Tickets starting at $35 plus applicable taxes and service fees. \nPre-Sale: Wednesday\, April 15 at 10am | Public Ticketmaster On-Sale: Friday\, April 17 at 10am \nTickets can be purchased at the Box Office or at Ticketmaster.ca\, the only official ticket retailer for Casino Rama Resort shows. \nClick Here to Buy Tickets \nMy Club Rewards members can use available comp to purchase tickets to this show by calling 705-329-3325 or visit Guest Services. \n\n\n\nFor more than 40 years\, Loverboy has been “Working for the Weekend” (and on weekends)\, delighting audiences around the world since forming in 1978\, when vocalist Mike Reno was introduced to guitar hot shot Paul Dean. With their trademark red leather pants\, bandannas\, big rock sound and high-energy live shows\, Loverboy has sold more than 10 million albums\, earning four multi-platinum plaques\, with a string of hits including\, “Lovin’ Every Minute of It\,” “The Kid is Hot Tonite\,” “Turn Me Loose\,” “Working for the Weekend\,” and many more.\n\n\nShareTweet\n            \n                \n            
URL:https://www.orillialakecountry.ca/event/loverboy/
LOCATION:5899 Rama Road\, Rama\, Ontario\, L3V 6H6\, Canada
GEO:44.646994;-79.350299
X-APPLE-STRUCTURED-LOCATION;VALUE=URI;X-ADDRESS=5899 Rama Road Rama Ontario L3V 6H6 Canada;X-APPLE-RADIUS=500;X-TITLE=5899 Rama Road:geo:-79.350299,44.646994
CATEGORIES:Adults,Experiences,Music And Performing Arts
ATTACH;FMTTYPE=image/jpeg:https://www.orillialakecountry.ca/wp-content/uploads/2026/04/CRR-Loverboy-1080-plain@2x-1024x1024-1.jpg
END:VEVENT
END:VCALENDAR