BEGIN:VCALENDAR
VERSION:2.0
PRODID:-//Orillia &amp; Lake Country Tourism - ECPv4.6.10.1//NONSGML v1.0//EN
CALSCALE:GREGORIAN
METHOD:PUBLISH
X-WR-CALNAME:Orillia &amp; Lake Country Tourism
X-ORIGINAL-URL:https://www.orillialakecountry.ca
X-WR-CALDESC:Events for Orillia &amp; Lake Country Tourism
BEGIN:VEVENT
DTSTART;TZID=America/Toronto:20261017T100000
DTEND;TZID=America/Toronto:20261017T160000
DTSTAMP:20260425T151308
CREATED:20260324T124717Z
LAST-MODIFIED:20260324T124717Z
UID:70349-1792231200-1792252800@www.orillialakecountry.ca
SUMMARY:Last Blast
DESCRIPTION:The Simcoe County Museum\, in collaboration with the Historical Construction Equipment Association (H.C.E.A) of Canada\, is proud to present another exciting edition of the Last Blast on October 17\, 2026; a one-of-a-kind celebration of vintage steam-powered machinery. \nStep back in time and experience the raw power and engineering marvels of historic construction equipment in action before they’re put away for the winter season. \nFrom antique tractors and classic trucks to steam rollers\, shovels\, and road-building equipment\, this event offers something for everyone. Enjoy dynamic live demonstrations and engaging static displays that will fascinate visitors of all ages. \nSavour the beauty of fall as you explore the picturesque museum grounds. Whether you’re fueling up at our concession stand or bringing your own lunch to enjoy in our covered picnic area\, it’s the perfect way to spend a fall day. ShareTweet\n            \n                \n            
URL:https://www.orillialakecountry.ca/event/last-blast-2/
LOCATION:1151 ON-26\, Minesing\, Ontario\, L9X0Z7\, Canada
GEO:44.4442907;-79.7478738
X-APPLE-STRUCTURED-LOCATION;VALUE=URI;X-ADDRESS=1151 ON-26 Minesing Ontario L9X0Z7 Canada;X-APPLE-RADIUS=500;X-TITLE=1151 ON-26:geo:-79.7478738,44.4442907
CATEGORIES:Culture And Heritage
ATTACH;FMTTYPE=image/jpeg:https://www.orillialakecountry.ca/wp-content/uploads/2026/03/Last-Blast.jpg
ORGANIZER;CN="Simcoe%20County%20Museum":MAILTO:museum@simcoe.ca
END:VEVENT
END:VCALENDAR