BEGIN:VCALENDAR
VERSION:2.0
PRODID:-//Orillia &amp; Lake Country Tourism - ECPv4.6.10.1//NONSGML v1.0//EN
CALSCALE:GREGORIAN
METHOD:PUBLISH
X-WR-CALNAME:Orillia &amp; Lake Country Tourism
X-ORIGINAL-URL:https://www.orillialakecountry.ca
X-WR-CALDESC:Events for Orillia &amp; Lake Country Tourism
BEGIN:VEVENT
DTSTART;TZID=America/Toronto:20260822T200000
DTEND;TZID=America/Toronto:20260822T230000
DTSTAMP:20260422T123753
CREATED:20260421T131704Z
LAST-MODIFIED:20260421T131704Z
UID:72786-1787428800-1787439600@www.orillialakecountry.ca
SUMMARY:John Fogerty: The Legacy Tour
DESCRIPTION:John Fogerty: The Legacy Tour • Saturday\, August 22\, 2026\n19+ event\nShowtime: 8pm • Doors Open: 7pm | Tickets starting at $75 plus applicable taxes and service fees. \nPre-Sale: Wednesday\, April 15 at 10am | Public Ticketmaster On-Sale: Friday\, April 17 at 10am \nTickets can be purchased at the Box Office or at Ticketmaster.ca\, the only official ticket retailer for Casino Rama Resort shows. \nClick Here to Buy Tickets \nMy Club Rewards members can use available comp to purchase tickets to this show by calling 705-329-3325 or visit Guest Services. \n\n\nGrammy winner\, Rock & Roll Hall of Famer\, and Songwriters Hall of Famer John Fogerty is one of the most influential figures in American music. As the songwriter\, singer\, and lead guitarist of Creedence Clearwater Revival and through his acclaimed solo career\, Fogerty forged a singular sound blending blues\, country\, rockabilly\, R&B\, and swamp rock\, alongside powerful\, working-class storytelling. His iconic songs – including “Proud Mary\,” “Fortunate Son\,” “Born on the Bayou\,” “Bad Moon Rising\,” and “Have You Ever Seen the Rain” – have sold more than 100 million copies worldwide.\n\nShareTweet\n            \n                \n            
URL:https://www.orillialakecountry.ca/event/john-fogerty-the-legacy-tour/
LOCATION:5899 Rama Road\, Rama\, Ontario\, L3V 6H6\, Canada
GEO:44.646994;-79.350299
X-APPLE-STRUCTURED-LOCATION;VALUE=URI;X-ADDRESS=5899 Rama Road Rama Ontario L3V 6H6 Canada;X-APPLE-RADIUS=500;X-TITLE=5899 Rama Road:geo:-79.350299,44.646994
CATEGORIES:Adults,Experiences,Music And Performing Arts
ATTACH;FMTTYPE=image/jpeg:https://www.orillialakecountry.ca/wp-content/uploads/2026/04/JohnFogerty_2025_Square-640-750-1080-1024x1024-1.jpg
END:VEVENT
END:VCALENDAR