BEGIN:VCALENDAR
VERSION:2.0
PRODID:-//Orillia &amp; Lake Country Tourism - ECPv4.6.10.1//NONSGML v1.0//EN
CALSCALE:GREGORIAN
METHOD:PUBLISH
X-WR-CALNAME:Orillia &amp; Lake Country Tourism
X-ORIGINAL-URL:https://www.orillialakecountry.ca
X-WR-CALDESC:Events for Orillia &amp; Lake Country Tourism
BEGIN:VEVENT
DTSTART;TZID=America/Toronto:20260712T200000
DTEND;TZID=America/Toronto:20260712T230000
DTSTAMP:20260424T105645
CREATED:20260421T125841Z
LAST-MODIFIED:20260421T125841Z
UID:72766-1783886400-1783897200@www.orillialakecountry.ca
SUMMARY:Hardy & McCoy Moore
DESCRIPTION:Hardy with special guest McCoy Moore • Sunday\, July 12\, 2026\n19+ event\nShowtime: 8pm • Doors Open: 7pm | Tickets starting at $134 plus applicable taxes and service fees. \nPre-Sale: Wednesday\, April 15 at 10am | Public Ticketmaster On-Sale: Friday\, April 17 at 10am \nTickets can be purchased at the Box Office or at Ticketmaster.ca\, the only official ticket retailer for Casino Rama Resort shows. \nClick Here to Buy Tickets \nMy Club Rewards members can use available comp to purchase tickets to this show by calling 705-329-3325 or visit Guest Services. \n\n\nHeavy hitter HARDY has proven\, “he’s one of country music’s most talented tunesmiths” (Billboard)\, with critical acclaim and eight billion career streams. A 5x ACM award winner and 2x CMA Award winner\, HARDY has also won three CMA Triple Play awards\, was named the 2022 BMI Country Songwriter of the Year and is a three-time AIMP Songwriter of the Year. HARDY has written 18 No. 1 singles including most recent “Favorite Country Song\,” 3x Platinum “Truck Bed” and award-winning duet “Wait in the Truck” feat. Lainey Wilson\, 4x Platinum chart topper “One Beer” featuring Lauren Alaina and Devin Dawson\, the Platinum Dierks Bentley and BRELAND collaboration “Beers On Me” and rock radio No. 1 “Jack.”\n\nShareTweet\n            \n                \n            
URL:https://www.orillialakecountry.ca/event/hardy-mccoy-moore/
LOCATION:5899 Rama Road\, Rama\, Ontario\, L3V 6H6\, Canada
GEO:44.646994;-79.350299
X-APPLE-STRUCTURED-LOCATION;VALUE=URI;X-ADDRESS=5899 Rama Road Rama Ontario L3V 6H6 Canada;X-APPLE-RADIUS=500;X-TITLE=5899 Rama Road:geo:-79.350299,44.646994
CATEGORIES:Adults,Experiences,Music And Performing Arts
ATTACH;FMTTYPE=image/jpeg:https://www.orillialakecountry.ca/wp-content/uploads/2026/04/CRR-Hardy-McCoyMoore-750@2x-1024x1024-1.jpg
END:VEVENT
END:VCALENDAR