BEGIN:VCALENDAR
VERSION:2.0
PRODID:-//Orillia &amp; Lake Country Tourism - ECPv4.6.10.1//NONSGML v1.0//EN
CALSCALE:GREGORIAN
METHOD:PUBLISH
X-WR-CALNAME:Orillia &amp; Lake Country Tourism
X-ORIGINAL-URL:https://www.orillialakecountry.ca
X-WR-CALDESC:Events for Orillia &amp; Lake Country Tourism
BEGIN:VEVENT
DTSTART;TZID=America/Toronto:20240427T200000
DTEND;TZID=America/Toronto:20240427T200000
DTSTAMP:20260425T105811
CREATED:20240220T170511Z
LAST-MODIFIED:20240220T170511Z
UID:43482-1714248000-1714248000@www.orillialakecountry.ca
SUMMARY:Glass Tiger with Special Guest The Kings
DESCRIPTION:Glass Tiger with Special Guest The Kings • Saturday\, April 27\, 2024\nShowtime: 8pm • Doors Open: 7pm | Tickets:  $30/$40/$50/$60 + Taxes & Service Charge \nPre-Sale: Wednesday\, February 7 at 10am | Public Ticketmaster On-Sale: Friday\, February 9 at 10am \nTickets can be purchased at the Box Office or at Ticketmaster.ca\, the only official ticket retailer for Casino Rama Resort shows. \nClick Here to Buy Tickets \nMy Club Rewards members can use available comp to purchase tickets to this show by calling 1-800-832-7529 or visit Guest Services. \nGrammy nominated and 5x Juno Award winners\, Glass Tiger has released 6 studio albums since their debut in 1986 and sold 5 million albums worldwide. The Canadian rock band was inducted into Canada’s Walk of fame in 2023\, with hits including “Don’t Forget Me (When I’m Gone)\,” “Someday\,” and “I’m Still Searching.” \nThe Kings are a Canadian rock band best known for their biggest hit from the 80s\, “This Beat Goes On/Switchin’ To Glide.” ShareTweet\n            \n                \n            
URL:https://www.orillialakecountry.ca/event/glass-tiger-with-special-guest-the-kings/
LOCATION:5899 Rama Road\, Rama\, Ontario\, L3V 6H6\, Canada
GEO:44.646994;-79.350299
X-APPLE-STRUCTURED-LOCATION;VALUE=URI;X-ADDRESS=5899 Rama Road Rama Ontario L3V 6H6 Canada;X-APPLE-RADIUS=500;X-TITLE=5899 Rama Road:geo:-79.350299,44.646994
CATEGORIES:Music And Performing Arts
ATTACH;FMTTYPE=image/jpeg:https://www.orillialakecountry.ca/wp-content/uploads/2024/02/CRR-GlassTiger-750x750-2.jpg
END:VEVENT
END:VCALENDAR