BEGIN:VCALENDAR
VERSION:2.0
PRODID:-//Orillia &amp; Lake Country Tourism - ECPv4.6.10.1//NONSGML v1.0//EN
CALSCALE:GREGORIAN
METHOD:PUBLISH
X-WR-CALNAME:Orillia &amp; Lake Country Tourism
X-ORIGINAL-URL:https://www.orillialakecountry.ca
X-WR-CALDESC:Events for Orillia &amp; Lake Country Tourism
BEGIN:VEVENT
DTSTART;TZID=America/Toronto:20240420T100000
DTEND;TZID=America/Toronto:20240420T110000
DTSTAMP:20260420T023132
CREATED:20240206T143521Z
LAST-MODIFIED:20240206T143521Z
UID:43073-1713607200-1713610800@www.orillialakecountry.ca
SUMMARY:Free Earth Day Workshop
DESCRIPTION:Sustainability… Environmentally Responsible Investments \nEarth Day is a great day to pull invasive species\, plant native species… and take stock of your investments and their impact on planet Earth. \nJoin us for a FREE workshop investigating “Responsible investing” (RI) that factors in environmental\, social\, and governance considerations like carbon emissions\, human rights\, good working conditions\, employee diversity\, and more. \nAlign your investments with your belief in positive change. Learn about sound financial strategies that can yield many rewards\, and support efforts to achieve net-zero green house gas emissions by 2050. \nWhere: Wye Marsh Wildlife Centre\nWhen: Saturday\, April 20\, from 10 am – 11 am\nHow much: FREE with price of admission \nLimited Space. Save your spot by pre-registration using Eventbrite link: https://www.wyemarsh.com/sustainability-investments \nFor more details please call 705-526-7809 or email: events@wyemarsh.com ShareTweet\n            \n                \n            
URL:https://www.orillialakecountry.ca/event/free-earth-day-workshop/
LOCATION:16160 Highway 12 East\, Midland\, Ontario\, L4R 4K6\, Canada
GEO:44.7301266;-79.8380275
X-APPLE-STRUCTURED-LOCATION;VALUE=URI;X-ADDRESS=16160 Highway 12 East Midland Ontario L4R 4K6 Canada;X-APPLE-RADIUS=500;X-TITLE=16160 Highway 12 East:geo:-79.8380275,44.7301266
ATTACH;FMTTYPE=image/jpeg:https://www.orillialakecountry.ca/wp-content/uploads/2024/02/Sustainable-Investments-Workshop-2.jpg
ORGANIZER;CN="Wye%20Marsh%20Wildlife%20Centre":MAILTO:info@wyemarsh.com
END:VEVENT
END:VCALENDAR