BEGIN:VCALENDAR
VERSION:2.0
PRODID:-//Orillia &amp; Lake Country Tourism - ECPv4.6.10.1//NONSGML v1.0//EN
CALSCALE:GREGORIAN
METHOD:PUBLISH
X-WR-CALNAME:Orillia &amp; Lake Country Tourism
X-ORIGINAL-URL:https://www.orillialakecountry.ca
X-WR-CALDESC:Events for Orillia &amp; Lake Country Tourism
BEGIN:VEVENT
DTSTART;TZID=America/Toronto:20251112T080000
DTEND;TZID=America/Toronto:20251112T123000
DTSTAMP:20260421T161505
CREATED:20250925T153240Z
LAST-MODIFIED:20250930T131358Z
UID:64141-1762934400-1762950600@www.orillialakecountry.ca
SUMMARY:Food Safety and Regulations for On-Farm Diversification
DESCRIPTION:🍎 From farm to market…are you ready?\nLearn how to navigate food safety\, regulations\, and risk management while growing your farm business. Plus\, connect with a panel of on-farm processors who’ve been there!\n✅ Free workshop\n📅 November 12 | ⏰ 8:00 AM – 12:30 PM\n📍 Oro-Medonte Community Banquet Hall ShareTweet\n            \n                \n            
URL:https://www.orillialakecountry.ca/event/food-safety-and-regulations-for-on-farm-diversification/
LOCATION:71 Line 4 North\, Oro-Medonte
GEO:44.4610831;-79.58083
X-APPLE-STRUCTURED-LOCATION;VALUE=URI;X-ADDRESS=71 Line 4 North Oro-Medonte;X-APPLE-RADIUS=500;X-TITLE=71 Line 4 North:geo:-79.58083,44.4610831
ATTACH;FMTTYPE=image/jpeg:https://www.orillialakecountry.ca/wp-content/uploads/2025/09/workshop_nov12_facebook_linkedin.jpg
ORGANIZER;CN="Orillia%20Area%20CDC":MAILTO:info@orilliacdc.com
END:VEVENT
END:VCALENDAR