BEGIN:VCALENDAR
VERSION:2.0
PRODID:-//Orillia &amp; Lake Country Tourism - ECPv4.6.10.1//NONSGML v1.0//EN
CALSCALE:GREGORIAN
METHOD:PUBLISH
X-WR-CALNAME:Orillia &amp; Lake Country Tourism
X-ORIGINAL-URL:https://www.orillialakecountry.ca
X-WR-CALDESC:Events for Orillia &amp; Lake Country Tourism
BEGIN:VEVENT
DTSTART;TZID=America/Toronto:20251004T193000
DTEND;TZID=America/Toronto:20251004T213000
DTSTAMP:20260419T210018
CREATED:20250923T160015Z
LAST-MODIFIED:20250923T160015Z
UID:63968-1759606200-1759613400@www.orillialakecountry.ca
SUMMARY:Dreamer - The Supertramp Experience
DESCRIPTION:Dreamer – The Supertramp Experience – The world’s most authentic tribute to Supertramp. Performing songs from the ‘Crime of the Century’ album\, plus all of Supertramp’s biggest hits: GIVE A LITTLE BIT\, THE LOGICAL SONG\, TAKE THE LONG WAY HOME\, BREAKFAST IN AMERICA. And more! Dreamer – The Supertramp Experience delivers a world-class show that includes authentic instrumentation\, including vintage keyboards and live horns. Costume changes in between sets set the stage for a memorable evening of the very best Supertramp songs of all time\, that are performed by some of North America’s finest A-List musicians.  The accuracy of their renditions both vocally and instrumentally are uncanny.  A concert not-to-be-missed that is guaranteed to leave a lasting impression\, along with an uplifting sense of joy and satisfaction\, to all fans of this iconic musical group! ShareTweet\n            \n                \n            
URL:https://www.orillialakecountry.ca/event/dreamer-the-supertramp-experience/
LOCATION:1 West Street North\, Orillia\, Ontario\,  L3V 5B8\, Canada
GEO:44.6082597;-79.4196643
X-APPLE-STRUCTURED-LOCATION;VALUE=URI;X-ADDRESS=1 West Street North Orillia Ontario  L3V 5B8 Canada;X-APPLE-RADIUS=500;X-TITLE=1 West Street North:geo:-79.4196643,44.6082597
CATEGORIES:Culture And Heritage,Everyone,Experiences,Music And Performing Arts
ATTACH;FMTTYPE=image/png:https://www.orillialakecountry.ca/wp-content/uploads/2025/09/2_16_2025_3_13_40_PM.png
END:VEVENT
END:VCALENDAR