BEGIN:VCALENDAR
VERSION:2.0
PRODID:-//Orillia &amp; Lake Country Tourism - ECPv4.6.10.1//NONSGML v1.0//EN
CALSCALE:GREGORIAN
METHOD:PUBLISH
X-WR-CALNAME:Orillia &amp; Lake Country Tourism
X-ORIGINAL-URL:https://www.orillialakecountry.ca
X-WR-CALDESC:Events for Orillia &amp; Lake Country Tourism
BEGIN:VEVENT
DTSTART;TZID=America/Toronto:20240705T200000
DTEND;TZID=America/Toronto:20240705T200000
DTSTAMP:20260420T173907
CREATED:20240627T181748Z
LAST-MODIFIED:20240627T181748Z
UID:48800-1720209600-1720209600@www.orillialakecountry.ca
SUMMARY:Donny Osmond: Direct from Vegas
DESCRIPTION:Casino Rama Resort \nShowtime: 9pm • Doors Open: 8pm | Tickets: $69/$79/$89/$99/$115/$125 + Taxes & Service Charge \nDonny Osmond has become a worldwide music legend. He has sold over 100 million records\, received 33 gold records and has performed to millions of fans around the globe during his illustrious six-decade long music career and shows no signs of stopping. Currently\, Donny headlines his award-winning solo residency at Harrah’s Las Vegas which was voted Best New Show\, Best Performer\, Best Resident Headliner and Best Production by the public in the Best of Las Vegas honors from The Las Vegas Review Journal. ShareTweet\n            \n                \n            
URL:https://www.orillialakecountry.ca/event/donny-osmond-direct-from-vegas/
LOCATION:5899 Rama Road\, Rama\, Ontario\, L3V 6H6\, Canada
GEO:44.646994;-79.350299
X-APPLE-STRUCTURED-LOCATION;VALUE=URI;X-ADDRESS=5899 Rama Road Rama Ontario L3V 6H6 Canada;X-APPLE-RADIUS=500;X-TITLE=5899 Rama Road:geo:-79.350299,44.646994
CATEGORIES:Music And Performing Arts
ATTACH;FMTTYPE=image/jpeg:https://www.orillialakecountry.ca/wp-content/uploads/2024/06/CRR-DonnyOsmond-750x750-1.jpg
END:VEVENT
END:VCALENDAR