BEGIN:VCALENDAR
VERSION:2.0
PRODID:-//Orillia &amp; Lake Country Tourism - ECPv4.6.10.1//NONSGML v1.0//EN
CALSCALE:GREGORIAN
METHOD:PUBLISH
X-WR-CALNAME:Orillia &amp; Lake Country Tourism
X-ORIGINAL-URL:https://www.orillialakecountry.ca
X-WR-CALDESC:Events for Orillia &amp; Lake Country Tourism
BEGIN:VEVENT
DTSTART;TZID=America/Toronto:20260627T100000
DTEND;TZID=America/Toronto:20260627T160000
DTSTAMP:20260423T192617
CREATED:20260421T100722Z
LAST-MODIFIED:20260421T100722Z
UID:72756-1782554400-1782576000@www.orillialakecountry.ca
SUMMARY:Delicious Days of Summer
DESCRIPTION:Get ready to savour summer in downtown Orillia at the Delicious Days of Summer Food Festival on June 27. From 10 a.m. to 4 p.m.\, the downtown core will come alive with more than 120 vendors offering mouthwatering food\, decadent desserts\, handcrafted goods\, and unique artisan creations. With live energy\, local flavour\, and a full street closure transforming the heart of the city into a vibrant open-air market\, it’s shaping up to be one of the season’s sweetest events. ShareTweet\n            \n                \n            
URL:https://www.orillialakecountry.ca/event/delicious-days-of-summer-2/
LOCATION:33 Mississaga Street West\,\,  Orillia\, Ontario\, L3V 3A5\, Canada
GEO:44.607573;-79.42043
X-APPLE-STRUCTURED-LOCATION;VALUE=URI;X-ADDRESS=33 Mississaga Street West  Orillia Ontario L3V 3A5 Canada;X-APPLE-RADIUS=500;X-TITLE=33 Mississaga Street West\,:geo:-79.42043,44.607573
CATEGORIES:Culinary,Everyone,Experiences
ATTACH;FMTTYPE=image/jpeg:https://www.orillialakecountry.ca/wp-content/uploads/2026/04/615782729_122171994152789228_632252479096327050_n.jpg
END:VEVENT
END:VCALENDAR