BEGIN:VCALENDAR
VERSION:2.0
PRODID:-//Orillia &amp; Lake Country Tourism - ECPv4.6.10.1//NONSGML v1.0//EN
CALSCALE:GREGORIAN
METHOD:PUBLISH
X-WR-CALNAME:Orillia &amp; Lake Country Tourism
X-ORIGINAL-URL:https://www.orillialakecountry.ca
X-WR-CALDESC:Events for Orillia &amp; Lake Country Tourism
BEGIN:VEVENT
DTSTART;VALUE=DATE:20250926
DTEND;VALUE=DATE:20250929
DTSTAMP:20260419T185126
CREATED:20250805T135336Z
LAST-MODIFIED:20250805T135336Z
UID:61567-1758844800-1759103999@www.orillialakecountry.ca
SUMMARY:Coldwater Fall Fair
DESCRIPTION:The Coldwater Fair is a local agricultural celebration held the last full weekend of each September. ShareTweet\n            \n                \n            
URL:https://www.orillialakecountry.ca/event/coldwater-fall-fair-2/
LOCATION:Coldwater\, Ontario\, L0K 1E0 \, Canada
GEO:44.7099419;-79.643778
CATEGORIES:Adults,Culture And Heritage,Everyone,Experiences,Family
ATTACH;FMTTYPE=image/jpeg:https://www.orillialakecountry.ca/wp-content/uploads/2025/08/ColdwaterFair2024-1.jpg
END:VEVENT
END:VCALENDAR