BEGIN:VCALENDAR
VERSION:2.0
PRODID:-//Orillia &amp; Lake Country Tourism - ECPv4.6.10.1//NONSGML v1.0//EN
CALSCALE:GREGORIAN
METHOD:PUBLISH
X-WR-CALNAME:Orillia &amp; Lake Country Tourism
X-ORIGINAL-URL:https://www.orillialakecountry.ca
X-WR-CALDESC:Events for Orillia &amp; Lake Country Tourism
BEGIN:VEVENT
DTSTART;TZID=America/Toronto:20251121T150000
DTEND;TZID=America/Toronto:20251121T190000
DTSTAMP:20260421T110711
CREATED:20250905T133952Z
LAST-MODIFIED:20250905T133952Z
UID:63557-1763737200-1763751600@www.orillialakecountry.ca
SUMMARY:Christmas at the Orillia Farmers' Market
DESCRIPTION:Christmas Markets are back at the Orillia Farmers’ Market this November! Shop local\, support makers\, and celebrate the season with us! First 50 customers at each market will receive $5 Market Dollars to spend with any on site vendor! \nDates: November 14\, November 21\, November 28\nTime: 3 p.m. to 7 p.m.\nLocation: Inside the Orillia Public Library ShareTweet\n            \n                \n            
URL:https://www.orillialakecountry.ca/event/christmas-at-the-orillia-farmers-market-2/2025-11-21/
LOCATION:36 Mississaga St W\, Orillia\, Ontario\, L3V 3A6\, Canada
GEO:44.6081839;-79.4209367
X-APPLE-STRUCTURED-LOCATION;VALUE=URI;X-ADDRESS=36 Mississaga St W Orillia Ontario L3V 3A6 Canada;X-APPLE-RADIUS=500;X-TITLE=36 Mississaga St W:geo:-79.4209367,44.6081839
CATEGORIES:Everyone,Experiences,Family,Festivals Fairs And Events,Holiday And Seasonal
ATTACH;FMTTYPE=image/jpeg:https://www.orillialakecountry.ca/wp-content/uploads/2025/09/OFM-Christmas-Markets.jpg
ORGANIZER;CN="Orillia%20Farmers%27%20Market":MAILTO:marketmanager@orillia.ca
END:VEVENT
END:VCALENDAR