BEGIN:VCALENDAR
VERSION:2.0
PRODID:-//Orillia &amp; Lake Country Tourism - ECPv4.6.10.1//NONSGML v1.0//EN
CALSCALE:GREGORIAN
METHOD:PUBLISH
X-WR-CALNAME:Orillia &amp; Lake Country Tourism
X-ORIGINAL-URL:https://www.orillialakecountry.ca
X-WR-CALDESC:Events for Orillia &amp; Lake Country Tourism
BEGIN:VEVENT
DTSTART;TZID=America/Toronto:20260423T183000
DTEND;TZID=America/Toronto:20260423T203000
DTSTAMP:20260423T121201
CREATED:20260422T141052Z
LAST-MODIFIED:20260422T141052Z
UID:72836-1776969000-1776976200@www.orillialakecountry.ca
SUMMARY:Chess Night - Jarratt Community Hall Oro-Medonte
DESCRIPTION:Join us for a fun game of chess. All ages\, all levels. \n ShareTweet\n            \n                \n            
URL:https://www.orillialakecountry.ca/event/chess-night-jarratt-community-hall-oro-medonte/2026-04-23/
CATEGORIES:Everyone
ATTACH;FMTTYPE=image/jpeg:https://www.orillialakecountry.ca/wp-content/uploads/2026/04/chess.jpg
END:VEVENT
END:VCALENDAR