BEGIN:VCALENDAR
VERSION:2.0
PRODID:-//Orillia &amp; Lake Country Tourism - ECPv4.6.10.1//NONSGML v1.0//EN
CALSCALE:GREGORIAN
METHOD:PUBLISH
X-WR-CALNAME:Orillia &amp; Lake Country Tourism
X-ORIGINAL-URL:https://www.orillialakecountry.ca
X-WR-CALDESC:Events for Orillia &amp; Lake Country Tourism
BEGIN:VEVENT
DTSTART;TZID=America/Toronto:20260228T200000
DTEND;TZID=America/Toronto:20260228T230000
DTSTAMP:20260420T143224
CREATED:20260205T184446Z
LAST-MODIFIED:20260205T184446Z
UID:69143-1772308800-1772319600@www.orillialakecountry.ca
SUMMARY:Backseat Dragon with Domicile & Hoperfilly
DESCRIPTION:Feb 28\, 2026\, 8:00 p.m. – 11:00 p.m.\n\n\nHigher Ground (Brewery Bay 2nd Floor)\, 162 Mississaga St E\, Orillia\, ON L3V 1V9\, Canada \n\n\nA night of live original music from:\n\n\n\n\nBACKSEAT DRAGON\, Ottawa’s yuckiest three piece band. \nDOMICILE\, Orillia’s favourite indie rock band. \nand \nHOPERFILLY\, Kawartha’s youngest indie group. \n\n\n\nShareTweet\n            \n                \n            
URL:https://www.orillialakecountry.ca/event/backseat-dragon-with-domicile-hoperfilly/
LOCATION:117 Mississaga St. E.\, Orillia\, Ontario\, L3V 1V6\, Canada
GEO:44.6093229;-79.4166325
X-APPLE-STRUCTURED-LOCATION;VALUE=URI;X-ADDRESS=117 Mississaga St. E. Orillia Ontario L3V 1V6 Canada;X-APPLE-RADIUS=500;X-TITLE=117 Mississaga St. E.:geo:-79.4166325,44.6093229
CATEGORIES:Adults,Everyone,Experiences,Music And Performing Arts
ATTACH;FMTTYPE=image/jpeg:https://www.orillialakecountry.ca/wp-content/uploads/2026/02/Untitled-1.jpg
END:VEVENT
END:VCALENDAR