BEGIN:VCALENDAR
VERSION:2.0
PRODID:-//Orillia &amp; Lake Country Tourism - ECPv4.6.10.1//NONSGML v1.0//EN
CALSCALE:GREGORIAN
METHOD:PUBLISH
X-WR-CALNAME:Orillia &amp; Lake Country Tourism
X-ORIGINAL-URL:https://www.orillialakecountry.ca
X-WR-CALDESC:Events for Orillia &amp; Lake Country Tourism
BEGIN:VEVENT
DTSTART;TZID=America/Toronto:20260904T210000
DTEND;TZID=America/Toronto:20260904T230000
DTSTAMP:20260423T120850
CREATED:20260421T132019Z
LAST-MODIFIED:20260421T132019Z
UID:72791-1788555600-1788562800@www.orillialakecountry.ca
SUMMARY:An Intimate Evening with Celtic Thunder
DESCRIPTION:An Intimate Evening with Celtic Thunder • Friday\, September 4\, 2026\n19+ event\nShowtime: 9pm • Doors Open: 8pm | Tickets starting at $49 plus applicable taxes and service fees. \nPre-Sale: Tuesday\, March 10 at 10am | Public Ticketmaster On-Sale: Friday\, March 13 at 10am \nTickets can be purchased at the Box Office or at Ticketmaster.ca\, the only official ticket retailer for Casino Rama Resort shows. \nClick Here to Buy Tickets \nMy Club Rewards members can use available comp to purchase tickets to this show by calling 705-329-3325 or visit Guest Services. \n\n\nAn Intimate Evening with Celtic Thunder celebrates Celtic heritage and the greatest songs of the widely acclaimed group\, who feature an eclectic mix of songs ranging from the traditional to international hits and some original pieces along the way. The current cast of Celtic Thunder is made up of diverse performers\, Emmet Cahill\, Neil Byrne\, Damian McGinty and Ronan Scolard.\n\nShareTweet\n            \n                \n            
URL:https://www.orillialakecountry.ca/event/an-intimate-evening-with-celtic-thunder/
LOCATION:5899 Rama Road\, Rama\, Ontario\, L3V 6H6\, Canada
GEO:44.646994;-79.350299
X-APPLE-STRUCTURED-LOCATION;VALUE=URI;X-ADDRESS=5899 Rama Road Rama Ontario L3V 6H6 Canada;X-APPLE-RADIUS=500;X-TITLE=5899 Rama Road:geo:-79.350299,44.646994
CATEGORIES:Everyone,Music And Performing Arts
ATTACH;FMTTYPE=image/jpeg:https://www.orillialakecountry.ca/wp-content/uploads/2026/04/CRR-CelticThunder2026-750x750-1.jpg
END:VEVENT
END:VCALENDAR