BEGIN:VCALENDAR
VERSION:2.0
PRODID:-//Orillia &amp; Lake Country Tourism - ECPv4.6.10.1//NONSGML v1.0//EN
CALSCALE:GREGORIAN
METHOD:PUBLISH
X-WR-CALNAME:Orillia &amp; Lake Country Tourism
X-ORIGINAL-URL:https://www.orillialakecountry.ca
X-WR-CALDESC:Events for Orillia &amp; Lake Country Tourism
BEGIN:VEVENT
DTSTART;TZID=America/Toronto:20260925T210000
DTEND;TZID=America/Toronto:20260925T230000
DTSTAMP:20260425T013710
CREATED:20260421T132433Z
LAST-MODIFIED:20260421T133119Z
UID:72796-1790370000-1790377200@www.orillialakecountry.ca
SUMMARY:Josh Ross
DESCRIPTION:Josh Ross – Later Tonight Tour with special guest Just Jayne • Friday\, September 25\, 2026\n19+ event\nShowtime: 9pm • Doors Open: 8pm | Tickets starting at $50 plus applicable taxes and service fees. \nPre-Sale: Tuesday\, March 10 at 10am | Public Ticketmaster On-Sale: Friday\, March 13 at 10am \nTickets can be purchased at the Box Office or at Ticketmaster.ca\, the only official ticket retailer for Casino Rama Resort shows. \nClick Here to Buy Tickets \nMy Club Rewards members can use available comp to purchase tickets to this show by calling 705-329-3325 or visit Guest Services. \n\n\nJosh Ross is one of Canada’s most promising singer-songwriter-performers. Ross pairs a dark\, mellow blast of modern country rock with a warm vocal rasp\, heart-on-his-sleeve writing and addictive hooks. His dusky power ballad “Trouble” rose to #1 in Canada and earned RIAA Gold certification in the U.S. The current CCMA Entertainer of the Year is now breaking through in the States\, tallying more than 900 million career streams and hailed as an Artist to Watch by Spotify\, Amazon Music\, Pandora\, MusicRow\, the Grand Ole Opry and more. As his bold barroom anthem “Single Again” climbs the charts in the US after hitting #1 on Canadian Country Radio\, Ross is proving to be a global force\, taking home his first-ever CMA Award – the Jeff Walker Global Country Artist Award – recognizing his international achievements in country music. \n\nShareTweet\n            \n                \n            
URL:https://www.orillialakecountry.ca/event/72796/
LOCATION:5899 Rama Road\, Rama\, Ontario\, L3V 6H6\, Canada
GEO:44.646994;-79.350299
X-APPLE-STRUCTURED-LOCATION;VALUE=URI;X-ADDRESS=5899 Rama Road Rama Ontario L3V 6H6 Canada;X-APPLE-RADIUS=500;X-TITLE=5899 Rama Road:geo:-79.350299,44.646994
CATEGORIES:Adults,Experiences,Music And Performing Arts
ATTACH;FMTTYPE=image/jpeg:https://www.orillialakecountry.ca/wp-content/uploads/2026/04/CRR-JoshRoss2026-750x750-1.jpg
END:VEVENT
END:VCALENDAR